BEGIN:VCALENDAR
VERSION:2.0
PRODID:-//Idaikkurichchi Sri Subramaniya Vidyalayam - ECPv6.15.12.2//NONSGML v1.0//EN
CALSCALE:GREGORIAN
METHOD:PUBLISH
X-ORIGINAL-URL:https://idaikkurichchissv.lk
X-WR-CALDESC:Events for Idaikkurichchi Sri Subramaniya Vidyalayam
REFRESH-INTERVAL;VALUE=DURATION:PT1H
X-Robots-Tag:noindex
X-PUBLISHED-TTL:PT1H
BEGIN:VTIMEZONE
TZID:UTC
BEGIN:STANDARD
TZOFFSETFROM:+0000
TZOFFSETTO:+0000
TZNAME:UTC
DTSTART:20240101T000000
END:STANDARD
END:VTIMEZONE
BEGIN:VEVENT
DTSTART;TZID=UTC:20251008T103000
DTEND;TZID=UTC:20251008T140000
DTSTAMP:20260422T213558
CREATED:20251006T145058Z
LAST-MODIFIED:20251006T145058Z
UID:3322-1759919400-1759932000@idaikkurichchissv.lk
SUMMARY:ஆசிரியர் தினம் 2025
DESCRIPTION:
URL:https://idaikkurichchissv.lk/event/%e0%ae%86%e0%ae%9a%e0%ae%bf%e0%ae%b0%e0%ae%bf%e0%ae%af%e0%ae%b0%e0%af%8d-%e0%ae%a4%e0%ae%bf%e0%ae%a9%e0%ae%ae%e0%af%8d-2025/
END:VEVENT
BEGIN:VEVENT
DTSTART;TZID=UTC:20251107T080000
DTEND;TZID=UTC:20251107T170000
DTSTAMP:20260422T213558
CREATED:20251110T071339Z
LAST-MODIFIED:20251110T071339Z
UID:3432-1762502400-1762534800@idaikkurichchissv.lk
SUMMARY:வெள்ளிக்கிழமை (07.11.2025) எமது பாடசாலையில் தரம்5புலமைச்சாதணையாளர் கௌரவிப்பு நிகழ்வு நடைபெற்றது.
DESCRIPTION:வெட்டுப்புள்ளிக்குமேல் சாதனைபடைத்த 6மாணவர்களுக்கு கனடாவில் வதியும் பழையமாணவர் திரு.கா.குகன்அவர்களினால் துவிச்சக்கரவண்டி வழங்கப்பட்டதுடன் 70புள்ளிக்குமேல் பெற்ற ஏனையமாணவர்களுக்கு பிரான்சில் வதியும் பழையமாணவன் திரு.ந.மாதவன் அவர்களினால் ஒருதொகை பணப்பரிசில் வங்கியில் வைப்பிட்டதுடன் மக்கள்வங்கி கொடிகாமம் கிளை மற்றும் ஹற்றன்தேசியவங்கி கொடிகாமம் கிளையினரால் கற்றல் உபகரணங்களும் பதக்கமும் வழங்கி கெளரவிப்பட்டனர். கற்பித்த ஆசிரியர்களுக்கும் பெற்றோர்களினால் கௌரவிக்கப்பட்டனர். வகுப்பாசிறியர்களும் அந்த மாணவர்களுக்கு பரிசில்கள் வழங்கி கௌரவிக்கப்பட்டனர்.
URL:https://idaikkurichchissv.lk/event/%e0%ae%b5%e0%af%86%e0%ae%b3%e0%af%8d%e0%ae%b3%e0%ae%bf%e0%ae%95%e0%af%8d%e0%ae%95%e0%ae%bf%e0%ae%b4%e0%ae%ae%e0%af%88-07-11-2025-%e0%ae%8e%e0%ae%ae%e0%ae%a4%e0%af%81-%e0%ae%aa%e0%ae%be%e0%ae%9f/
END:VEVENT
BEGIN:VEVENT
DTSTART;TZID=UTC:20251110T080000
DTEND;TZID=UTC:20251205T170000
DTSTAMP:20260422T213558
CREATED:20251023T103547Z
LAST-MODIFIED:20251023T103547Z
UID:3411-1762761600-1764954000@idaikkurichchissv.lk
SUMMARY:2025\, 2026 - பொதுப்பரீட்சைத் திகதிகள்
DESCRIPTION:2025 GCE A/L – 2025 Nov 10. – Dec 05
URL:https://idaikkurichchissv.lk/event/2025-2026-%e0%ae%aa%e0%af%8a%e0%ae%a4%e0%af%81%e0%ae%aa%e0%af%8d%e0%ae%aa%e0%ae%b0%e0%af%80%e0%ae%9f%e0%af%8d%e0%ae%9a%e0%af%88%e0%ae%a4%e0%af%8d-%e0%ae%a4%e0%ae%bf%e0%ae%95%e0%ae%a4%e0%ae%bf/
END:VEVENT
BEGIN:VEVENT
DTSTART;TZID=UTC:20251206T080000
DTEND;TZID=UTC:20251206T170000
DTSTAMP:20260422T213558
CREATED:20251023T103644Z
LAST-MODIFIED:20251023T103644Z
UID:3413-1765008000-1765040400@idaikkurichchissv.lk
SUMMARY:2025\, 2026 - பொதுப்பரீட்சைத் திகதிகள்
DESCRIPTION:2025 GIT – 2025 Dec 06
URL:https://idaikkurichchissv.lk/event/2025-2026-%e0%ae%aa%e0%af%8a%e0%ae%a4%e0%af%81%e0%ae%aa%e0%af%8d%e0%ae%aa%e0%ae%b0%e0%af%80%e0%ae%9f%e0%af%8d%e0%ae%9a%e0%af%88%e0%ae%a4%e0%af%8d-%e0%ae%a4%e0%ae%bf%e0%ae%95%e0%ae%a4%e0%ae%bf-2/
END:VEVENT
BEGIN:VEVENT
DTSTART;VALUE=DATE:20260204
DTEND;VALUE=DATE:20260205
DTSTAMP:20260422T213558
CREATED:20251023T104707Z
LAST-MODIFIED:20251023T104815Z
UID:3425-1770163200-1770249599@idaikkurichchissv.lk
SUMMARY:அரச பொது விடுமுறை தினம் - சுதந்திர தினம்
DESCRIPTION:அரச பொது விடுமுறை தினம் – சுதந்திர தினம்
URL:https://idaikkurichchissv.lk/event/%e0%ae%85%e0%ae%b0%e0%ae%9a-%e0%ae%aa%e0%af%8a%e0%ae%a4%e0%af%81-%e0%ae%b5%e0%ae%bf%e0%ae%9f%e0%af%81%e0%ae%ae%e0%af%81%e0%ae%b1%e0%af%88-%e0%ae%a4%e0%ae%bf%e0%ae%a9%e0%ae%ae%e0%af%8d-%e0%ae%9a/
END:VEVENT
BEGIN:VEVENT
DTSTART;VALUE=DATE:20260215
DTEND;VALUE=DATE:20260216
DTSTAMP:20260422T213558
CREATED:20251023T105320Z
LAST-MODIFIED:20251023T105320Z
UID:3427-1771113600-1771199999@idaikkurichchissv.lk
SUMMARY:அரச பொது விடுமுறை தினம் - மகா சிவராத்திரி
DESCRIPTION:அரச பொது விடுமுறை தினம் – மகா சிவராத்திரி
URL:https://idaikkurichchissv.lk/event/%e0%ae%85%e0%ae%b0%e0%ae%9a-%e0%ae%aa%e0%af%8a%e0%ae%a4%e0%af%81-%e0%ae%b5%e0%ae%bf%e0%ae%9f%e0%af%81%e0%ae%ae%e0%af%81%e0%ae%b1%e0%af%88-%e0%ae%a4%e0%ae%bf%e0%ae%a9%e0%ae%ae%e0%af%8d-%e0%ae%ae/
END:VEVENT
BEGIN:VEVENT
DTSTART;TZID=UTC:20260217T080000
DTEND;TZID=UTC:20260226T170000
DTSTAMP:20260422T213558
CREATED:20251023T103829Z
LAST-MODIFIED:20251023T103829Z
UID:3415-1771315200-1772125200@idaikkurichchissv.lk
SUMMARY:2026 - பொதுப்பரீட்சைத் திகதிகள்
DESCRIPTION:2025 GCE O/L – Feb 17 – Feb 26
URL:https://idaikkurichchissv.lk/event/2026-%e0%ae%aa%e0%af%8a%e0%ae%a4%e0%af%81%e0%ae%aa%e0%af%8d%e0%ae%aa%e0%ae%b0%e0%af%80%e0%ae%9f%e0%af%8d%e0%ae%9a%e0%af%88%e0%ae%a4%e0%af%8d-%e0%ae%a4%e0%ae%bf%e0%ae%95%e0%ae%a4%e0%ae%bf%e0%ae%95/
END:VEVENT
BEGIN:VEVENT
DTSTART;TZID=UTC:20260303T080000
DTEND;TZID=UTC:20261004T140000
DTSTAMP:20260422T213558
CREATED:20251023T102020Z
LAST-MODIFIED:20251023T102020Z
UID:3403-1772524800-1791122400@idaikkurichchissv.lk
SUMMARY:அட்டவணை.2026 - பாடசாலைத் தவணை - முதலாம் தவணை - கட்டம்.2
DESCRIPTION:அட்டவணை.2026 – பாடசாலைத் தவணை – முதலாம் தவணை – கட்டம்.1
URL:https://idaikkurichchissv.lk/event/%e0%ae%85%e0%ae%9f%e0%af%8d%e0%ae%9f%e0%ae%b5%e0%ae%a3%e0%af%88-2026-%e0%ae%aa%e0%ae%be%e0%ae%9f%e0%ae%9a%e0%ae%be%e0%ae%b2%e0%af%88%e0%ae%a4%e0%af%8d-%e0%ae%a4%e0%ae%b5%e0%ae%a3%e0%af%88-2/
END:VEVENT
BEGIN:VEVENT
DTSTART;TZID=UTC:20260420T080000
DTEND;TZID=UTC:20260724T140000
DTSTAMP:20260422T213558
CREATED:20251023T102231Z
LAST-MODIFIED:20251023T105033Z
UID:3405-1776672000-1784901600@idaikkurichchissv.lk
SUMMARY:அட்டவணை.2026 - பாடசாலைத் தவணை - இரண்டாம் தவணை
DESCRIPTION:அட்டவணை.2026 – பாடசாலைத் தவணை – இரண்டாம் தவணை
URL:https://idaikkurichchissv.lk/event/%e0%ae%85%e0%ae%9f%e0%af%8d%e0%ae%9f%e0%ae%b5%e0%ae%a3%e0%af%88-2026-%e0%ae%aa%e0%ae%be%e0%ae%9f%e0%ae%9a%e0%ae%be%e0%ae%b2%e0%af%88%e0%ae%a4%e0%af%8d-%e0%ae%a4%e0%ae%b5%e0%ae%a3%e0%af%88-3/
END:VEVENT
BEGIN:VEVENT
DTSTART;TZID=UTC:20260809T080000
DTEND;TZID=UTC:20260809T170000
DTSTAMP:20260422T213558
CREATED:20251023T104113Z
LAST-MODIFIED:20251023T104113Z
UID:3419-1786262400-1786294800@idaikkurichchissv.lk
SUMMARY:2025\, 2026 - பொதுப்பரீட்சைத் திகதிகள்
DESCRIPTION:2026 Grade.V – 2026 Aug 09
URL:https://idaikkurichchissv.lk/event/2025-2026-%e0%ae%aa%e0%af%8a%e0%ae%a4%e0%af%81%e0%ae%aa%e0%af%8d%e0%ae%aa%e0%ae%b0%e0%af%80%e0%ae%9f%e0%af%8d%e0%ae%9a%e0%af%88%e0%ae%a4%e0%af%8d-%e0%ae%a4%e0%ae%bf%e0%ae%95%e0%ae%a4%e0%ae%bf-4/
END:VEVENT
BEGIN:VEVENT
DTSTART;TZID=UTC:20260810T080000
DTEND;TZID=UTC:20260905T170000
DTSTAMP:20260422T213558
CREATED:20251023T103956Z
LAST-MODIFIED:20251023T103956Z
UID:3417-1786348800-1788627600@idaikkurichchissv.lk
SUMMARY:2025\, 2026 - பொதுப்பரீட்சைத் திகதிகள்
DESCRIPTION:2026 GCE O/L – 2026 Aug 10 – Sep 05
URL:https://idaikkurichchissv.lk/event/2025-2026-%e0%ae%aa%e0%af%8a%e0%ae%a4%e0%af%81%e0%ae%aa%e0%af%8d%e0%ae%aa%e0%ae%b0%e0%af%80%e0%ae%9f%e0%af%8d%e0%ae%9a%e0%af%88%e0%ae%a4%e0%af%8d-%e0%ae%a4%e0%ae%bf%e0%ae%95%e0%ae%a4%e0%ae%bf-3/
END:VEVENT
BEGIN:VEVENT
DTSTART;TZID=UTC:20260907T080000
DTEND;TZID=UTC:20261204T140000
DTSTAMP:20260422T213558
CREATED:20251023T102632Z
LAST-MODIFIED:20251023T102632Z
UID:3409-1788768000-1796392800@idaikkurichchissv.lk
SUMMARY:அட்டவணை.2026 - பாடசாலைத் தவணை - மூன்றாம் தவணை - கட்டம்.2
DESCRIPTION:அட்டவணை.2026 – பாடசாலைத் தவணை – மூன்றாம் தவணை – கட்டம்.2
URL:https://idaikkurichchissv.lk/event/%e0%ae%85%e0%ae%9f%e0%af%8d%e0%ae%9f%e0%ae%b5%e0%ae%a3%e0%af%88-2026-%e0%ae%aa%e0%ae%be%e0%ae%9f%e0%ae%9a%e0%ae%be%e0%ae%b2%e0%af%88%e0%ae%a4%e0%af%8d-%e0%ae%a4%e0%ae%b5%e0%ae%a3%e0%af%88-5/
END:VEVENT
BEGIN:VEVENT
DTSTART;TZID=UTC:20261024T080000
DTEND;TZID=UTC:20261024T170000
DTSTAMP:20260422T213558
CREATED:20251023T104207Z
LAST-MODIFIED:20251023T104207Z
UID:3421-1792828800-1792861200@idaikkurichchissv.lk
SUMMARY:2025\, 2026 - பொதுப்பரீட்சைத் திகதிகள்
DESCRIPTION:2026 GIT. – 2026 Oct 24
URL:https://idaikkurichchissv.lk/event/2025-2026-%e0%ae%aa%e0%af%8a%e0%ae%a4%e0%af%81%e0%ae%aa%e0%af%8d%e0%ae%aa%e0%ae%b0%e0%af%80%e0%ae%9f%e0%af%8d%e0%ae%9a%e0%af%88%e0%ae%a4%e0%af%8d-%e0%ae%a4%e0%ae%bf%e0%ae%95%e0%ae%a4%e0%ae%bf-5/
END:VEVENT
BEGIN:VEVENT
DTSTART;TZID=UTC:20261208T080000
DTEND;TZID=UTC:20261217T170000
DTSTAMP:20260422T213558
CREATED:20251023T104317Z
LAST-MODIFIED:20251023T104317Z
UID:3423-1796716800-1797526800@idaikkurichchissv.lk
SUMMARY:2025\, 2026 - பொதுப்பரீட்சைத் திகதிகள்
DESCRIPTION:2026 GCE O/L – 2026 Dec 08 – Dec 17
URL:https://idaikkurichchissv.lk/event/2025-2026-%e0%ae%aa%e0%af%8a%e0%ae%a4%e0%af%81%e0%ae%aa%e0%af%8d%e0%ae%aa%e0%ae%b0%e0%af%80%e0%ae%9f%e0%af%8d%e0%ae%9a%e0%af%88%e0%ae%a4%e0%af%8d-%e0%ae%a4%e0%ae%bf%e0%ae%95%e0%ae%a4%e0%ae%bf-6/
END:VEVENT
END:VCALENDAR