BEGIN:VCALENDAR
VERSION:2.0
PRODID:-//Idaikkurichchi Sri Subramaniya Vidyalayam - ECPv6.15.12.2//NONSGML v1.0//EN
CALSCALE:GREGORIAN
METHOD:PUBLISH
X-WR-CALNAME:Idaikkurichchi Sri Subramaniya Vidyalayam
X-ORIGINAL-URL:https://idaikkurichchissv.lk
X-WR-CALDESC:Events for Idaikkurichchi Sri Subramaniya Vidyalayam
REFRESH-INTERVAL;VALUE=DURATION:PT1H
X-Robots-Tag:noindex
X-PUBLISHED-TTL:PT1H
BEGIN:VTIMEZONE
TZID:UTC
BEGIN:STANDARD
TZOFFSETFROM:+0000
TZOFFSETTO:+0000
TZNAME:UTC
DTSTART:20220101T000000
END:STANDARD
END:VTIMEZONE
BEGIN:VTIMEZONE
TZID:Asia/Kolkata
BEGIN:STANDARD
TZOFFSETFROM:+0530
TZOFFSETTO:+0530
TZNAME:IST
DTSTART:20220101T000000
END:STANDARD
END:VTIMEZONE
BEGIN:VEVENT
DTSTART;VALUE=DATE:20231005
DTEND;VALUE=DATE:20231006
DTSTAMP:20260422T014741
CREATED:20230412T131919Z
LAST-MODIFIED:20230412T131919Z
UID:229-1696464000-1696550399@idaikkurichchissv.lk
SUMMARY:Teachers Day
DESCRIPTION:Teachers Day is a special day celebrated annually on the 5th of October to honor and appreciate teachers’ contributions to society. It is a day when students and communities come together to express their gratitude to teachers for their hard work\, dedication\, and commitment to educating the next generation. Teachers play a vital role in shaping the future of individuals and society\, and this day serves as an opportunity to recognize and celebrate their efforts. Various activities and events are organized on Teachers Day\, such as gift-giving\, speeches\, and performances\, to express gratitude and show appreciation for the selfless service of teachers.
URL:https://idaikkurichchissv.lk/event/teachers-day/
ATTACH;FMTTYPE=image/webp:https://idaikkurichchissv.lk/wp-content/uploads/2023/04/happy-teachers-day-lettering-theme_52683-44816.webp
END:VEVENT
BEGIN:VEVENT
DTSTART;VALUE=DATE:20231001
DTEND;VALUE=DATE:20231002
DTSTAMP:20260422T014741
CREATED:20230731T104907Z
LAST-MODIFIED:20230731T110818Z
UID:2406-1696118400-1696204799@idaikkurichchissv.lk
SUMMARY:சிறுவர்தினம்
DESCRIPTION:
URL:https://idaikkurichchissv.lk/event/%e0%ae%9a%e0%ae%bf%e0%ae%b1%e0%af%81%e0%ae%b5%e0%ae%b0%e0%af%8d%e0%ae%a4%e0%ae%bf%e0%ae%a9%e0%ae%ae%e0%af%8d/
ATTACH;FMTTYPE=image/jpeg:https://idaikkurichchissv.lk/wp-content/uploads/2023/06/IMG_9501-scaled.jpg
END:VEVENT
BEGIN:VEVENT
DTSTART;VALUE=DATE:20230717
DTEND;VALUE=DATE:20230718
DTSTAMP:20260422T014741
CREATED:20230731T104153Z
LAST-MODIFIED:20230731T125736Z
UID:2403-1689552000-1689638399@idaikkurichchissv.lk
SUMMARY:ஆடிப்பிறப்பு
DESCRIPTION:
URL:https://idaikkurichchissv.lk/event/%e0%ae%86%e0%ae%9f%e0%ae%bf%e0%ae%aa%e0%af%8d%e0%ae%aa%e0%ae%bf%e0%ae%b1%e0%ae%aa%e0%af%8d%e0%ae%aa%e0%af%81/
ATTACH;FMTTYPE=image/jpeg:https://idaikkurichchissv.lk/wp-content/uploads/2023/07/Adippirappu.jpg
END:VEVENT
BEGIN:VEVENT
DTSTART;TZID=Asia/Kolkata:20230430T080000
DTEND;TZID=Asia/Kolkata:20230430T133000
DTSTAMP:20260422T014741
CREATED:20230412T131606Z
LAST-MODIFIED:20230731T113114Z
UID:225-1682841600-1682861400@idaikkurichchissv.lk
SUMMARY:Prize Giving day
DESCRIPTION:chool Prize Giving Day is an important event in the academic calendar of most educational institutions. It is a day when students who have excelled in academics\, sports\, arts\, and other co-curricular activities are recognized and awarded for their hard work and achievements. \nDuring the Prize Giving Day ceremony\, the school administration and staff take the opportunity to acknowledge the hard work of the students and celebrate their accomplishments. The ceremony usually starts with a speech from the school principal or headteacher\, who highlights the school’s achievements and congratulates the students on their successes. \nAfter the opening speech\, the awards ceremony begins\, and students who have excelled in various fields are recognized and presented with their awards. The awards are usually in the form of certificates\, medals\, and trophies. Students who have performed exceptionally well academically\, in sports\, music\, drama\, and other co-curricular activities\, are usually awarded.
URL:https://idaikkurichchissv.lk/event/prize-giving-day/
ATTACH;FMTTYPE=image/jpeg:https://idaikkurichchissv.lk/wp-content/uploads/2023/04/Prize-Giving-Ceremony-1.jpg
END:VEVENT
END:VCALENDAR